BEGIN:VCALENDAR
VERSION:2.0
PRODID:-//AudioTheme 3.0.2
BEGIN:VEVENT
UID:http://www.brazilguitar.de/?post_type=audiotheme_gig&#038;p=2236
URL:https://www.brazilguitar.de/events/2017-11-25/
DTSTART;TZID=GMT:20171125T140000
SUMMARY:Martin Müller spielt Powell, Gershwin, Beatles & eigene Kompositionen
DESCRIPTION:Ein Solonachmittagskonzert gibt es 25.11. 15.oo Uhr im AWO Haus  Adlerstraße 33 in Karlsruhe - der Eintritt ist frei. AWO freut sich über zahlreiche Besucher
LOCATION:Karlsruhe
END:VEVENT
END:VCALENDAR
