BEGIN:VCALENDAR
VERSION:2.0
PRODID:-//AudioTheme 3.0.2
BEGIN:VEVENT
UID:http://www.brazilguitar.de/?post_type=audiotheme_gig&#038;p=2373
URL:https://www.brazilguitar.de/events/eroeffnung-dachsbacher-kulturtage/
DTSTART;TZID=GMT:20180629T170000
SUMMARY:Eröffnung Dachsbacher Kulturtage
DESCRIPTION:Kurze Rede - Solostücke- kurze Rede - Solostücke
LOCATION:Dachsbach\, Rathaus
END:VEVENT
END:VCALENDAR
