BEGIN:VCALENDAR
VERSION:2.0
PRODID:-//AudioTheme 3.0.2
BEGIN:VEVENT
UID:http://www.brazilguitar.de/?post_type=audiotheme_gig&#038;p=1908
URL:https://www.brazilguitar.de/events/gig-1908/
DTSTART;TZID=GMT:20160912T163000
SUMMARY:TRIO ASTORI
DESCRIPTION:TRIO ASTORI  Didi Kraus Saxes / Markus Bodenseh Bass / Martin Müller NylonJazzGuitar/  Tangos\, Bossa\, Jazz 
LOCATION:ULM
END:VEVENT
END:VCALENDAR
