BEGIN:VCALENDAR
VERSION:2.0
PRODID:-//AudioTheme 3.0.2
BEGIN:VEVENT
UID:http://www.brazilguitar.de/?post_type=audiotheme_gig&#038;p=1912
URL:https://www.brazilguitar.de/events/gig-1912/
DTSTART;TZID=GMT:20161008T173000
SUMMARY:CD Präsentation ONE DAY IN MY LIFE
DESCRIPTION:Martin Müller & THE RIB präsentieren:  ONE DAY IN MY LIFE  CD Präsentation   Eine ganz besondere Veranstaltung
LOCATION:Ehemalige Synagoge Weisenheim am Berg\, Hauptstraße 28 a\, Weisenheim am Berg\, \, Deutschland\, 67273
END:VEVENT
END:VCALENDAR
