BEGIN:VCALENDAR
VERSION:2.0
PRODID:-//AudioTheme 3.0.2
BEGIN:VEVENT
UID:http://www.brazilguitar.de/?post_type=audiotheme_gig&#038;p=1998
URL:https://www.brazilguitar.de/events/mduom-jardim-brasileiro-gitarrenfestival-weisenheim-a-b/
DTSTART;TZID=GMT:20170205T170000
SUMMARY:MDuoM JARDIM BRASILEIRO  Gitarrenfestival Weisenheim a.B.
DESCRIPTION:JARDIM BRASILEIRO - MDuoM   Antonio Malinconico & Martin Müller
LOCATION:Ehemalige Synagoge Weisenheim am Berg\, Hauptstraße 28 a\, Weisenheim am Berg\, \, Deutschland\, 67273
END:VEVENT
END:VCALENDAR
