BEGIN:VCALENDAR
VERSION:2.0
PRODID:-//AudioTheme 3.0.2
BEGIN:VEVENT
UID:http://www.brazilguitar.de/?post_type=audiotheme_gig&#038;p=2001
URL:https://www.brazilguitar.de/events/mduom-jardim-brasileiro-kulturverein-schulze/
DTSTART;TZID=GMT:20170218T190000
SUMMARY:MDuoM  JARDIM BRASILEIRO  Kulturverein Schulze
DESCRIPTION:Der beste Club in Deutschland - Kulturverein Schulze  - ohne Ute & Alex wäre das Leben ärmer !
LOCATION:Kulturverein Schulze\, Schulze-Delitzschstr.44  \, Pforzheim\, \, 75173
END:VEVENT
END:VCALENDAR
