BEGIN:VCALENDAR
VERSION:2.0
PRODID:-//AudioTheme 3.0.2
BEGIN:VEVENT
UID:http://www.brazilguitar.de/?post_type=audiotheme_gig&#038;p=2198
URL:https://www.brazilguitar.de/events/mduom/
DTSTART;TZID=GMT:20171124T193000
SUMMARY:MduoM
DESCRIPTION:MduoM präsentiert die neue CD JARDIM BRASILEIRO  Virtuos\, filigran und einzigartig
LOCATION:Jazzclub Kelkheim\, Rotlintallee 2  65779 Kelkheim
END:VEVENT
END:VCALENDAR
