BEGIN:VCALENDAR
VERSION:2.0
PRODID:-//AudioTheme 3.0.2
BEGIN:VEVENT
UID:http://www.brazilguitar.de/?post_type=audiotheme_gig&#038;p=2632
URL:https://www.brazilguitar.de/events/mm-the-rib-grand-cru-guitar-2/
DTSTART;TZID=GMT:20190927T180000
SUMMARY:MM & The RIB GRAND CRU GUITAR
DESCRIPTION:The RIB - Christian Kussmann\, bass\, Kristof Körner\, drums & Martin Müller\, gitarre spielen Brazilguitartunes\, Rhapsody in blue for Jazztrio\, The Beatles und eigene Kompositionen
LOCATION:Kulturverein Schulze\, Schulze-Delitzschstr.44  \, Pforzheim\, \, 75173
END:VEVENT
END:VCALENDAR
