BEGIN:VCALENDAR
VERSION:2.0
PRODID:-//AudioTheme 3.0.2
BEGIN:VEVENT
UID:http://www.brazilguitar.de/?post_type=audiotheme_gig&#038;p=1913
URL:https://www.brazilguitar.de/events/rio-de-janeiro/
DTSTART;TZID=GMT:20161010T180000
SUMMARY:RIO DE JANEIRO
DESCRIPTION:10 Tage Rio mit einigen kleinen Gigs und etwas Unterricht - ein großer Schritt für mich - ein kleiner für die Menschheit
LOCATION:Rio
END:VEVENT
END:VCALENDAR
