BEGIN:VCALENDAR
VERSION:2.0
PRODID:-//AudioTheme 3.0.2
BEGIN:VEVENT
UID:http://www.brazilguitar.de/?post_type=audiotheme_gig&#038;p=2202
URL:https://www.brazilguitar.de/events/the-rib/
DTSTART;TZID=GMT:20180125T190000
SUMMARY:THE RIB
DESCRIPTION:THE RIB präsentiert: Beatles\,Gershwin\, Brazilguitar
LOCATION:Kulturverein Schulze\, Schulze-Delitzschstr.44  \, Pforzheim\, \, 75173
END:VEVENT
END:VCALENDAR
